Package: alabaster.sfe Version: 1.2.0 Command: /home/biocbuild/bbs-3.22-bioc/R/bin/R CMD INSTALL alabaster.sfe StartedAt: 2025-10-29 21:55:17 -0400 (Wed, 29 Oct 2025) EndedAt: 2025-10-29 21:56:09 -0400 (Wed, 29 Oct 2025) EllapsedTime: 51.7 seconds RetCode: 0 Status: OK