Package: alabaster.sfe Version: 1.1.0 Command: /home/biocbuild/bbs-3.22-bioc/R/bin/R CMD build --keep-empty-dirs --no-resave-data --md5 alabaster.sfe StartedAt: 2025-10-28 16:10:38 -0400 (Tue, 28 Oct 2025) EndedAt: 2025-10-28 16:12:58 -0400 (Tue, 28 Oct 2025) EllapsedTime: 140.2 seconds RetCode: 0 Status: OK PackageFile: alabaster.sfe_1.1.0.tar.gz PackageFileSize: 2.74 MiB