Package: alabaster.schemas Version: 1.9.0 Command: /home/biocbuild/bbs-3.22-bioc/R/bin/R CMD INSTALL alabaster.schemas StartedAt: 2025-10-24 15:13:34 -0400 (Fri, 24 Oct 2025) EndedAt: 2025-10-24 15:13:50 -0400 (Fri, 24 Oct 2025) EllapsedTime: 15.2 seconds RetCode: 0 Status: OK