Package: alabaster.schemas Version: 1.10.0 Command: /Library/Frameworks/R.framework/Resources/bin/R CMD INSTALL alabaster.schemas StartedAt: 2025-10-31 15:05:19 -0400 (Fri, 31 Oct 2025) EndedAt: 2025-10-31 15:05:27 -0400 (Fri, 31 Oct 2025) EllapsedTime: 7.7 seconds RetCode: 0 Status: OK