Package: alabaster.schemas Version: 1.10.0 Command: /Library/Frameworks/R.framework/Resources/bin/R CMD build --keep-empty-dirs --no-resave-data alabaster.schemas StartedAt: 2025-11-02 15:36:47 -0500 (Sun, 02 Nov 2025) EndedAt: 2025-11-02 15:36:49 -0500 (Sun, 02 Nov 2025) EllapsedTime: 2.0 seconds RetCode: 0 Status: OK PackageFile: alabaster.schemas_1.10.0.tar.gz PackageFileSize: 239.9 KiB