Package: alabaster.sce Version: 1.9.0 Command: /home/biocbuild/bbs-3.22-bioc/R/bin/R CMD INSTALL alabaster.sce StartedAt: 2025-10-24 15:47:30 -0400 (Fri, 24 Oct 2025) EndedAt: 2025-10-24 15:47:58 -0400 (Fri, 24 Oct 2025) EllapsedTime: 28.7 seconds RetCode: 0 Status: OK