Package: alabaster.ranges Version: 1.9.1 Command: /home/biocbuild/bbs-3.22-bioc/R/bin/R CMD INSTALL alabaster.ranges StartedAt: 2025-10-24 15:25:57 -0400 (Fri, 24 Oct 2025) EndedAt: 2025-10-24 15:26:08 -0400 (Fri, 24 Oct 2025) EllapsedTime: 10.9 seconds RetCode: 0 Status: OK