Package: alabaster.ranges Version: 1.10.0 Command: /Library/Frameworks/R.framework/Resources/bin/R CMD INSTALL alabaster.ranges StartedAt: 2025-10-30 15:10:21 -0400 (Thu, 30 Oct 2025) EndedAt: 2025-10-30 15:10:26 -0400 (Thu, 30 Oct 2025) EllapsedTime: 4.9 seconds RetCode: 0 Status: OK