Package: alabaster.ranges Version: 1.10.0 Command: /Library/Frameworks/R.framework/Resources/bin/R CMD build --keep-empty-dirs --no-resave-data alabaster.ranges StartedAt: 2025-10-29 21:58:29 -0400 (Wed, 29 Oct 2025) EndedAt: 2025-10-29 21:58:36 -0400 (Wed, 29 Oct 2025) EllapsedTime: 7.1 seconds RetCode: 0 Status: OK PackageFile: alabaster.ranges_1.10.0.tar.gz PackageFileSize: 225.5 KiB