Package: alabaster.ranges Version: 1.10.0 Command: rm -rf alabaster.ranges.buildbin-libdir && mkdir alabaster.ranges.buildbin-libdir && /Users/biocbuild/BBS/utils/build-universal.sh alabaster.ranges_1.10.0.tar.gz /Library/Frameworks/R.framework/Resources/bin/R alabaster.ranges.buildbin-libdir StartedAt: 2025-10-30 05:15:25 -0400 (Thu, 30 Oct 2025) EndedAt: 2025-10-30 05:15:30 -0400 (Thu, 30 Oct 2025) EllapsedTime: 5.1 seconds RetCode: 0 Status: OK PackageFile: alabaster.ranges_1.10.0.tgz PackageFileSize: 318 KiB