Package: alabaster.matrix Version: 1.9.0 Command: /home/biocbuild/R/R/bin/R CMD INSTALL alabaster.matrix StartedAt: 2025-10-23 20:54:30 -0000 (Thu, 23 Oct 2025) EndedAt: 2025-10-23 20:55:08 -0000 (Thu, 23 Oct 2025) EllapsedTime: 37.7 seconds RetCode: 0 Status: OK