Package: alabaster.matrix Version: 1.9.0 Command: /home/biocbuild/R/R/bin/R CMD build --keep-empty-dirs --no-resave-data alabaster.matrix StartedAt: 2025-10-23 21:39:22 -0000 (Thu, 23 Oct 2025) EndedAt: 2025-10-23 21:40:10 -0000 (Thu, 23 Oct 2025) EllapsedTime: 48.0 seconds RetCode: 0 Status: OK PackageFile: alabaster.matrix_1.9.0.tar.gz PackageFileSize: 298.5 KiB