Package: alabaster.matrix Version: 1.9.0 Command: /home/biocbuild/bbs-3.22-bioc/R/bin/R CMD INSTALL alabaster.matrix StartedAt: 2025-10-24 15:46:35 -0400 (Fri, 24 Oct 2025) EndedAt: 2025-10-24 15:47:03 -0400 (Fri, 24 Oct 2025) EllapsedTime: 27.9 seconds RetCode: 0 Status: OK