Package: alabaster.matrix Version: 1.9.0 Command: /home/biocbuild/bbs-3.22-bioc/R/bin/R CMD check --install=check:alabaster.matrix.install-out.txt --library=/home/biocbuild/bbs-3.22-bioc/R/site-library --timings alabaster.matrix_1.9.0.tar.gz StartedAt: 2025-10-24 21:05:21 -0400 (Fri, 24 Oct 2025) EndedAt: 2025-10-24 21:09:12 -0400 (Fri, 24 Oct 2025) EllapsedTime: 231.3 seconds RetCode: 0 Status: OK CheckDir: alabaster.matrix.Rcheck Warnings: 0