Package: alabaster.matrix Version: 1.9.0 Command: /Library/Frameworks/R.framework/Resources/bin/R CMD INSTALL alabaster.matrix StartedAt: 2025-10-24 15:38:25 -0400 (Fri, 24 Oct 2025) EndedAt: 2025-10-24 15:39:03 -0400 (Fri, 24 Oct 2025) EllapsedTime: 38.2 seconds RetCode: 0 Status: OK