Package: alabaster.matrix Version: 1.9.0 Command: /Library/Frameworks/R.framework/Resources/bin/R CMD build --keep-empty-dirs --no-resave-data alabaster.matrix StartedAt: 2025-10-24 16:06:33 -0400 (Fri, 24 Oct 2025) EndedAt: 2025-10-24 16:07:16 -0400 (Fri, 24 Oct 2025) EllapsedTime: 43.5 seconds RetCode: 0 Status: OK PackageFile: alabaster.matrix_1.9.0.tar.gz PackageFileSize: 274.3 KiB