Package: alabaster.files Version: 1.7.0 Command: /home/biocbuild/bbs-3.22-bioc/R/bin/R CMD INSTALL alabaster.files StartedAt: 2025-10-24 15:33:53 -0400 (Fri, 24 Oct 2025) EndedAt: 2025-10-24 15:34:07 -0400 (Fri, 24 Oct 2025) EllapsedTime: 14.3 seconds RetCode: 0 Status: OK