Package: alabaster.bumpy Version: 1.10.0 Command: /home/biocbuild/R/R/bin/R CMD INSTALL alabaster.bumpy StartedAt: 2025-11-17 21:31:32 -0000 (Mon, 17 Nov 2025) EndedAt: 2025-11-17 21:31:49 -0000 (Mon, 17 Nov 2025) EllapsedTime: 16.6 seconds RetCode: 0 Status: OK