Package: alabaster.bumpy Version: 1.9.1 Command: /home/biocbuild/bbs-3.22-bioc/R/bin/R CMD check --install=check:alabaster.bumpy.install-out.txt --library=/home/biocbuild/bbs-3.22-bioc/R/site-library --timings alabaster.bumpy_1.9.1.tar.gz StartedAt: 2025-10-27 20:57:29 -0400 (Mon, 27 Oct 2025) EndedAt: 2025-10-27 20:58:59 -0400 (Mon, 27 Oct 2025) EllapsedTime: 90.1 seconds RetCode: 0 Status: OK CheckDir: alabaster.bumpy.Rcheck Warnings: 0