Package: alabaster.bumpy Version: 1.9.1 Command: /home/biocbuild/bbs-3.22-bioc/R/bin/R CMD build --keep-empty-dirs --no-resave-data --md5 alabaster.bumpy StartedAt: 2025-10-24 16:19:58 -0400 (Fri, 24 Oct 2025) EndedAt: 2025-10-24 16:20:16 -0400 (Fri, 24 Oct 2025) EllapsedTime: 18.0 seconds RetCode: 0 Status: OK PackageFile: alabaster.bumpy_1.9.1.tar.gz PackageFileSize: 236.2 KiB