Package: alabaster.bumpy Version: 1.9.1 Command: /Library/Frameworks/R.framework/Resources/bin/R CMD INSTALL alabaster.bumpy StartedAt: 2025-10-24 15:24:46 -0400 (Fri, 24 Oct 2025) EndedAt: 2025-10-24 15:25:03 -0400 (Fri, 24 Oct 2025) EllapsedTime: 17.2 seconds RetCode: 0 Status: OK