Package: alabaster.bumpy Version: 1.9.1 Command: /Library/Frameworks/R.framework/Resources/bin/R CMD build --keep-empty-dirs --no-resave-data alabaster.bumpy StartedAt: 2025-10-24 16:06:19 -0400 (Fri, 24 Oct 2025) EndedAt: 2025-10-24 16:06:42 -0400 (Fri, 24 Oct 2025) EllapsedTime: 22.9 seconds RetCode: 0 Status: OK PackageFile: alabaster.bumpy_1.9.1.tar.gz PackageFileSize: 235.4 KiB