Package: alabaster.base Version: 1.10.0 Command: /home/biocbuild/bbs-3.22-bioc/R/bin/R CMD check --install=check:alabaster.base.install-out.txt --library=/home/biocbuild/bbs-3.22-bioc/R/site-library --timings alabaster.base_1.10.0.tar.gz StartedAt: 2025-10-30 20:57:49 -0400 (Thu, 30 Oct 2025) EndedAt: 2025-10-30 20:59:29 -0400 (Thu, 30 Oct 2025) EllapsedTime: 100.2 seconds RetCode: 0 Status: WARNINGS CheckDir: alabaster.base.Rcheck Warnings: 1