Package: alabaster.base Version: 1.9.5 Command: /Library/Frameworks/R.framework/Resources/bin/R CMD INSTALL alabaster.base StartedAt: 2025-10-24 15:23:24 -0400 (Fri, 24 Oct 2025) EndedAt: 2025-10-24 15:24:45 -0400 (Fri, 24 Oct 2025) EllapsedTime: 80.8 seconds RetCode: 0 Status: OK