Package: alabaster.base Version: 1.9.5 Command: /Library/Frameworks/R.framework/Resources/bin/R CMD INSTALL alabaster.base StartedAt: 2025-10-27 15:07:39 -0400 (Mon, 27 Oct 2025) EndedAt: 2025-10-27 15:08:04 -0400 (Mon, 27 Oct 2025) EllapsedTime: 24.4 seconds RetCode: 0 Status: OK