Package: alabaster.base Version: 1.9.5 Command: /Library/Frameworks/R.framework/Resources/bin/R CMD build --keep-empty-dirs --no-resave-data alabaster.base StartedAt: 2025-10-26 15:36:31 -0400 (Sun, 26 Oct 2025) EndedAt: 2025-10-26 15:36:58 -0400 (Sun, 26 Oct 2025) EllapsedTime: 27.3 seconds RetCode: 0 Status: OK PackageFile: alabaster.base_1.9.5.tar.gz PackageFileSize: 330.6 KiB