Package: agilp Version: 3.41.0 Command: /home/biocbuild/bbs-3.22-bioc/R/bin/R CMD INSTALL agilp StartedAt: 2025-10-27 15:04:08 -0400 (Mon, 27 Oct 2025) EndedAt: 2025-10-27 15:04:17 -0400 (Mon, 27 Oct 2025) EllapsedTime: 9.2 seconds RetCode: 0 Status: OK