Package: agilp Version: 3.42.0 Command: /home/biocbuild/bbs-3.22-bioc/R/bin/R CMD check --install=check:agilp.install-out.txt --library=/home/biocbuild/bbs-3.22-bioc/R/site-library --timings agilp_3.42.0.tar.gz StartedAt: 2025-11-20 21:47:12 -0500 (Thu, 20 Nov 2025) EndedAt: 2025-11-20 21:47:30 -0500 (Thu, 20 Nov 2025) EllapsedTime: 18.0 seconds RetCode: 0 Status: OK CheckDir: agilp.Rcheck Warnings: 0