Package: agilp Version: 3.41.0 Command: /home/biocbuild/bbs-3.22-bioc/R/bin/R CMD build --keep-empty-dirs --no-resave-data --md5 agilp StartedAt: 2025-10-27 16:11:10 -0400 (Mon, 27 Oct 2025) EndedAt: 2025-10-27 16:11:15 -0400 (Mon, 27 Oct 2025) EllapsedTime: 5.0 seconds RetCode: 0 Status: OK PackageFile: agilp_3.41.0.tar.gz PackageFileSize: 454.3 KiB