Package: agilp Version: 3.42.0 Command: /Library/Frameworks/R.framework/Resources/bin/R CMD INSTALL agilp StartedAt: 2025-10-30 15:03:38 -0400 (Thu, 30 Oct 2025) EndedAt: 2025-10-30 15:03:57 -0400 (Thu, 30 Oct 2025) EllapsedTime: 18.9 seconds RetCode: 0 Status: OK