Package: agilp Version: 3.42.0 Command: /Library/Frameworks/R.framework/Resources/bin/R CMD build --keep-empty-dirs --no-resave-data agilp StartedAt: 2025-10-30 15:56:26 -0400 (Thu, 30 Oct 2025) EndedAt: 2025-10-30 15:56:36 -0400 (Thu, 30 Oct 2025) EllapsedTime: 10.3 seconds RetCode: 0 Status: OK PackageFile: agilp_3.42.0.tar.gz PackageFileSize: 452.5 KiB