Package: agilp Version: 3.42.0 Command: rm -rf agilp.buildbin-libdir && mkdir agilp.buildbin-libdir && /Users/biocbuild/BBS/utils/build-universal.sh agilp_3.42.0.tar.gz /Library/Frameworks/R.framework/Resources/bin/R agilp.buildbin-libdir StartedAt: 2025-10-31 01:11:51 -0400 (Fri, 31 Oct 2025) EndedAt: 2025-10-31 01:12:01 -0400 (Fri, 31 Oct 2025) EllapsedTime: 10.3 seconds RetCode: 0 Status: OK PackageFile: agilp_3.42.0.tgz PackageFileSize: 488.4 KiB