Package: agilp Version: 3.41.0 Command: /Library/Frameworks/R.framework/Resources/bin/R CMD INSTALL agilp StartedAt: 2025-10-27 15:01:00 -0400 (Mon, 27 Oct 2025) EndedAt: 2025-10-27 15:01:03 -0400 (Mon, 27 Oct 2025) EllapsedTime: 2.5 seconds RetCode: 0 Status: OK