Package: agilp Version: 3.41.0 Command: /Library/Frameworks/R.framework/Resources/bin/R CMD build --keep-empty-dirs --no-resave-data agilp StartedAt: 2025-10-27 15:35:56 -0400 (Mon, 27 Oct 2025) EndedAt: 2025-10-27 15:36:00 -0400 (Mon, 27 Oct 2025) EllapsedTime: 4.0 seconds RetCode: 0 Status: OK PackageFile: agilp_3.41.0.tar.gz PackageFileSize: 454.7 KiB