Package: agilp Version: 3.41.0 Command: rm -rf agilp.buildbin-libdir && mkdir agilp.buildbin-libdir && /Users/biocbuild/BBS/utils/build-universal.sh agilp_3.41.0.tar.gz /Library/Frameworks/R.framework/Resources/bin/R agilp.buildbin-libdir StartedAt: 2025-10-27 22:52:55 -0400 (Mon, 27 Oct 2025) EndedAt: 2025-10-27 22:52:57 -0400 (Mon, 27 Oct 2025) EllapsedTime: 2.0 seconds RetCode: 0 Status: OK PackageFile: agilp_3.41.0.tgz PackageFileSize: 490.7 KiB