Package: aggregateBioVar Version: 1.19.1 Command: /home/biocbuild/R/R/bin/R CMD INSTALL aggregateBioVar StartedAt: 2025-10-23 20:39:27 -0000 (Thu, 23 Oct 2025) EndedAt: 2025-10-23 20:39:56 -0000 (Thu, 23 Oct 2025) EllapsedTime: 28.3 seconds RetCode: 0 Status: OK