Package: aggregateBioVar Version: 1.19.1 Command: /Library/Frameworks/R.framework/Resources/bin/R CMD build --keep-empty-dirs --no-resave-data aggregateBioVar StartedAt: 2025-10-24 16:06:04 -0400 (Fri, 24 Oct 2025) EndedAt: 2025-10-24 16:07:38 -0400 (Fri, 24 Oct 2025) EllapsedTime: 93.9 seconds RetCode: 0 Status: OK PackageFile: aggregateBioVar_1.19.1.tar.gz PackageFileSize: 1.256 MiB