Package: aggregateBioVar Version: 1.19.1 Command: /Library/Frameworks/R.framework/Resources/bin/R CMD INSTALL aggregateBioVar StartedAt: 2025-10-24 15:15:01 -0400 (Fri, 24 Oct 2025) EndedAt: 2025-10-24 15:15:11 -0400 (Fri, 24 Oct 2025) EllapsedTime: 9.7 seconds RetCode: 0 Status: OK