Package: aggregateBioVar Version: 1.19.1 Maintainer: Jason Ratcliff MaintainerEmail: jason-ratcliff at uiowa.edu git_url: https://git.bioconductor.org/packages/aggregateBioVar git_branch: devel git_last_commit: 84d26ad git_last_commit_date: 2025-10-14 13:38:00 -0400 (Tue, 14 Oct 2025)