Package: affylmGUI Version: 1.83.0 Command: /home/biocbuild/bbs-3.22-bioc/R/bin/R CMD INSTALL affylmGUI StartedAt: 2025-10-24 15:36:03 -0400 (Fri, 24 Oct 2025) EndedAt: 2025-10-24 15:36:22 -0400 (Fri, 24 Oct 2025) EllapsedTime: 19.5 seconds RetCode: 0 Status: OK