Package: affylmGUI Version: 1.83.0 Command: /home/biocbuild/bbs-3.22-bioc/R/bin/R CMD build --keep-empty-dirs --no-resave-data --md5 affylmGUI StartedAt: 2025-10-24 16:19:15 -0400 (Fri, 24 Oct 2025) EndedAt: 2025-10-24 16:19:39 -0400 (Fri, 24 Oct 2025) EllapsedTime: 24.0 seconds RetCode: 0 Status: OK PackageFile: affylmGUI_1.83.0.tar.gz PackageFileSize: 1.763 MiB