Package: affylmGUI Version: 1.84.0 Command: /Library/Frameworks/R.framework/Resources/bin/R CMD INSTALL affylmGUI StartedAt: 2025-11-10 15:08:56 -0500 (Mon, 10 Nov 2025) EndedAt: 2025-11-10 15:09:05 -0500 (Mon, 10 Nov 2025) EllapsedTime: 8.9 seconds RetCode: 0 Status: OK