Package: affylmGUI Version: 1.84.0 Command: /Library/Frameworks/R.framework/Resources/bin/R CMD build --keep-empty-dirs --no-resave-data affylmGUI StartedAt: 2025-11-10 15:35:53 -0500 (Mon, 10 Nov 2025) EndedAt: 2025-11-10 15:36:05 -0500 (Mon, 10 Nov 2025) EllapsedTime: 12.1 seconds RetCode: 0 Status: OK PackageFile: affylmGUI_1.84.0.tar.gz PackageFileSize: 1.759 MiB