Package: affyio Version: 1.79.0 Command: /home/biocbuild/bbs-3.22-bioc/R/bin/R CMD INSTALL affyio StartedAt: 2025-10-24 15:13:09 -0400 (Fri, 24 Oct 2025) EndedAt: 2025-10-24 15:13:22 -0400 (Fri, 24 Oct 2025) EllapsedTime: 12.4 seconds RetCode: 0 Status: OK