Package: affyio Version: 1.79.0 Command: /home/biocbuild/bbs-3.22-bioc/R/bin/R CMD build --keep-empty-dirs --no-resave-data --md5 affyio StartedAt: 2025-10-24 16:19:14 -0400 (Fri, 24 Oct 2025) EndedAt: 2025-10-24 16:19:15 -0400 (Fri, 24 Oct 2025) EllapsedTime: 1.0 seconds RetCode: 0 Status: OK PackageFile: affyio_1.79.0.tar.gz PackageFileSize: 109.1 KiB