Package: affycoretools Version: 1.81.1 Command: /home/biocbuild/bbs-3.22-bioc/R/bin/R CMD build --keep-empty-dirs --no-resave-data --md5 affycoretools StartedAt: 2025-10-24 16:19:10 -0400 (Fri, 24 Oct 2025) EndedAt: 2025-10-24 16:20:48 -0400 (Fri, 24 Oct 2025) EllapsedTime: 98.1 seconds RetCode: 0 Status: OK PackageFile: affycoretools_1.81.1.tar.gz PackageFileSize: 6.607 MiB