Package: affycoretools Version: 1.82.0 Command: /Library/Frameworks/R.framework/Resources/bin/R CMD INSTALL affycoretools StartedAt: 2025-11-10 15:24:48 -0500 (Mon, 10 Nov 2025) EndedAt: 2025-11-10 15:25:12 -0500 (Mon, 10 Nov 2025) EllapsedTime: 24.2 seconds RetCode: 0 Status: OK