Package: affycoretools Version: 1.82.0 Command: rm -rf affycoretools.buildbin-libdir && mkdir affycoretools.buildbin-libdir && /Users/biocbuild/BBS/utils/build-universal.sh affycoretools_1.82.0.tar.gz /Library/Frameworks/R.framework/Resources/bin/R affycoretools.buildbin-libdir StartedAt: 2025-11-10 23:10:35 -0500 (Mon, 10 Nov 2025) EndedAt: 2025-11-10 23:11:02 -0500 (Mon, 10 Nov 2025) EllapsedTime: 26.5 seconds RetCode: 0 Status: OK PackageFile: affycoretools_1.82.0.tgz PackageFileSize: 577.4 KiB