Package: affyContam Version: 1.67.0 Command: /home/biocbuild/bbs-3.22-bioc/R/bin/R CMD build --keep-empty-dirs --no-resave-data --md5 affyContam StartedAt: 2025-10-24 16:19:09 -0400 (Fri, 24 Oct 2025) EndedAt: 2025-10-24 16:19:22 -0400 (Fri, 24 Oct 2025) EllapsedTime: 13.0 seconds RetCode: 0 Status: OK PackageFile: affyContam_1.67.0.tar.gz PackageFileSize: 502.9 KiB