Package: affy Version: 1.88.0 Command: /home/biocbuild/bbs-3.22-bioc/R/bin/R CMD INSTALL affy StartedAt: 2025-10-30 15:12:18 -0400 (Thu, 30 Oct 2025) EndedAt: 2025-10-30 15:12:28 -0400 (Thu, 30 Oct 2025) EllapsedTime: 9.6 seconds RetCode: 0 Status: OK